BEGIN:VCALENDAR
VERSION:2.0
PRODID:-//Department Of Education//ebd35692-0e63-47e7-900b-fcf8ac1cc21c
BEGIN:VTIMEZONE
TZID:Australia/Sydney
TZURL:http://tzurl.org/zoneinfo-outlook/Australia/Sydney
X-LIC-LOCATION:Australia/Sydney
BEGIN:STANDARD
TZOFFSETFROM:+1100
TZOFFSETTO:+1000
TZNAME:AEST
DTSTART:19700405T030000
RRULE:FREQ=YEARLY;BYMONTH=4;BYDAY=1SU
END:STANDARD
BEGIN:DAYLIGHT
TZOFFSETFROM:+1000
TZOFFSETTO:+1100
TZNAME:AEDT
DTSTART:19701004T020000
RRULE:FREQ=YEARLY;BYMONTH=10;BYDAY=1SU
END:DAYLIGHT
END:VTIMEZONE
CALSCALE:GREGORIAN
X-WR-TIMEZONE:Australia/Sydney
BEGIN:VEVENT
DTSTART;TZID=Australia/Sydney:20171129T133000
DTEND;TZID=Australia/Sydney:20171129T150000
DTSTAMP:20171129T133000Z
UID:09ac16a3-90ac-4032-b1c9-a4f20e87e43f
LOCATION:
SUMMARY;LANGUAGE=en-us:Mural opening & pizza afternoon
SEQUENCE:0
DESCRIPTION:Mural and Pizza Oven Dear parents and community, you may have noticed the school mural has been mounted on the wall of the 3-4 classroom near our yarning circle and it looks FABULOUS! I would like to deeply thank all staff, students and artists (Simone Atkins, Hanni Dickson & Elwyn Toby) for a journey thoroughly enjoyed and on a job extremely well done. Also a big thanks to Mrs Kuilder, Kerry and Cookie for helping with installing the mural. Willawarrin Public School will be holding a small opening of the mural on Wednesday at 1.30pm followed by pizzas cooked in our very own constructed and decorated pizza oven! I would like to invite all parents and family members to our school on Wednesday to help celebrate our whole school mural and pizza oven. I hope to see you here!
END:VEVENT
TRANSP:TRANSPARENT
END:VCALENDAR
