BEGIN:VCALENDAR
VERSION:2.0
PRODID:-//Department Of Education//4fda7f46-6591-4a6f-91b4-91cb1390a268
BEGIN:VTIMEZONE
TZID:Australia/Sydney
TZURL:http://tzurl.org/zoneinfo-outlook/Australia/Sydney
X-LIC-LOCATION:Australia/Sydney
BEGIN:STANDARD
TZOFFSETFROM:+1100
TZOFFSETTO:+1000
TZNAME:AEST
DTSTART:19700405T030000
RRULE:FREQ=YEARLY;BYMONTH=4;BYDAY=1SU
END:STANDARD
BEGIN:DAYLIGHT
TZOFFSETFROM:+1000
TZOFFSETTO:+1100
TZNAME:AEDT
DTSTART:19701004T020000
RRULE:FREQ=YEARLY;BYMONTH=10;BYDAY=1SU
END:DAYLIGHT
END:VTIMEZONE
CALSCALE:GREGORIAN
X-WR-TIMEZONE:Australia/Sydney
BEGIN:VEVENT
DTSTART;TZID=Australia/Sydney:20171127T110000
DTEND;TZID=Australia/Sydney:20171127T111500
DTSTAMP:20171127T110000Z
UID:97cd6ca3-46e9-4c26-9729-35a34974872b
LOCATION:
SUMMARY;LANGUAGE=en-us:SWIM SCHOOL
SEQUENCE:0
DESCRIPTION:Swimm school begins today and will run for 2 weeks at Kempsey Pool.
END:VEVENT
TRANSP:TRANSPARENT
END:VCALENDAR
