BEGIN:VCALENDAR
VERSION:2.0
PRODID:-//Department Of Education//0a19d0cf-a495-4b22-8eb3-c57c9e62a900
BEGIN:VTIMEZONE
TZID:Australia/Sydney
TZURL:http://tzurl.org/zoneinfo-outlook/Australia/Sydney
X-LIC-LOCATION:Australia/Sydney
BEGIN:STANDARD
TZOFFSETFROM:+1100
TZOFFSETTO:+1000
TZNAME:AEST
DTSTART:19700405T030000
RRULE:FREQ=YEARLY;BYMONTH=4;BYDAY=1SU
END:STANDARD
BEGIN:DAYLIGHT
TZOFFSETFROM:+1000
TZOFFSETTO:+1100
TZNAME:AEDT
DTSTART:19701004T020000
RRULE:FREQ=YEARLY;BYMONTH=10;BYDAY=1SU
END:DAYLIGHT
END:VTIMEZONE
CALSCALE:GREGORIAN
X-WR-TIMEZONE:Australia/Sydney
BEGIN:VEVENT
DTSTART;TZID=Australia/Sydney:20171130T173000
DTEND;TZID=Australia/Sydney:20171130T174500
DTSTAMP:20171130T173000Z
UID:a8110a8e-d14a-4359-8f32-dc5b5240852d
LOCATION:
SUMMARY;LANGUAGE=en-us:Year 6 Farewell & Disco
SEQUENCE:0
DESCRIPTION:Yer 6 farewell and disco this Friday afternoon - farewell begins at 5pm and disco starts at 6.30pm. Willawarrin Public School students only!
END:VEVENT
TRANSP:TRANSPARENT
END:VCALENDAR
