BEGIN:VCALENDAR
VERSION:2.0
PRODID:-//Department Of Education//fa573b28-7cdd-422a-8026-f96b1c7098aa
BEGIN:VTIMEZONE
TZID:Australia/Sydney
TZURL:http://tzurl.org/zoneinfo-outlook/Australia/Sydney
X-LIC-LOCATION:Australia/Sydney
BEGIN:STANDARD
TZOFFSETFROM:+1100
TZOFFSETTO:+1000
TZNAME:AEST
DTSTART:19700405T030000
RRULE:FREQ=YEARLY;BYMONTH=4;BYDAY=1SU
END:STANDARD
BEGIN:DAYLIGHT
TZOFFSETFROM:+1000
TZOFFSETTO:+1100
TZNAME:AEDT
DTSTART:19701004T020000
RRULE:FREQ=YEARLY;BYMONTH=10;BYDAY=1SU
END:DAYLIGHT
END:VTIMEZONE
CALSCALE:GREGORIAN
X-WR-TIMEZONE:Australia/Sydney
BEGIN:VEVENT
DTSTART;TZID=Australia/Sydney:20171205T173000
DTEND;TZID=Australia/Sydney:20171205T203000
DTSTAMP:20171205T173000Z
UID:713cbcd9-9ae8-4ddb-974b-59a7599c49d7
LOCATION:
SUMMARY;LANGUAGE=en-us:Annual Assembly and Concert
SEQUENCE:0
DESCRIPTION:Annual Assembly and School Concert this afternoon starting from 5-5.30pm
END:VEVENT
TRANSP:TRANSPARENT
END:VCALENDAR
