BEGIN:VCALENDAR
VERSION:2.0
PRODID:-//Department Of Education//9830d7b0-22e0-4d00-850d-9189ff41cf73
BEGIN:VTIMEZONE
TZID:Australia/Sydney
TZURL:http://tzurl.org/zoneinfo-outlook/Australia/Sydney
X-LIC-LOCATION:Australia/Sydney
BEGIN:STANDARD
TZOFFSETFROM:+1100
TZOFFSETTO:+1000
TZNAME:AEST
DTSTART:19700405T030000
RRULE:FREQ=YEARLY;BYMONTH=4;BYDAY=1SU
END:STANDARD
BEGIN:DAYLIGHT
TZOFFSETFROM:+1000
TZOFFSETTO:+1100
TZNAME:AEDT
DTSTART:19701004T020000
RRULE:FREQ=YEARLY;BYMONTH=10;BYDAY=1SU
END:DAYLIGHT
END:VTIMEZONE
CALSCALE:GREGORIAN
X-WR-TIMEZONE:Australia/Sydney
BEGIN:VEVENT
DTSTART;TZID=Australia/Sydney:20171215T090000
DTEND;TZID=Australia/Sydney:20171215T150000
DTSTAMP:20171215T090000Z
UID:00e8170b-d13c-4e96-bf55-185943fcacf7
LOCATION:
SUMMARY;LANGUAGE=en-us:Last day of term for students
SEQUENCE:0
DESCRIPTION:today will be filled with fun activcities such as dunk the year 5-6 students and teachers as well as 5-6 water fights. and classroom celebrations
END:VEVENT
TRANSP:TRANSPARENT
END:VCALENDAR
