BEGIN:VCALENDAR
VERSION:2.0
PRODID:-//Department Of Education//a7853684-851f-437a-842e-0b92a7b65670
BEGIN:VTIMEZONE
TZID:Australia/Sydney
TZURL:http://tzurl.org/zoneinfo-outlook/Australia/Sydney
X-LIC-LOCATION:Australia/Sydney
BEGIN:STANDARD
TZOFFSETFROM:+1100
TZOFFSETTO:+1000
TZNAME:AEST
DTSTART:19700405T030000
RRULE:FREQ=YEARLY;BYMONTH=4;BYDAY=1SU
END:STANDARD
BEGIN:DAYLIGHT
TZOFFSETFROM:+1000
TZOFFSETTO:+1100
TZNAME:AEDT
DTSTART:19701004T020000
RRULE:FREQ=YEARLY;BYMONTH=10;BYDAY=1SU
END:DAYLIGHT
END:VTIMEZONE
CALSCALE:GREGORIAN
X-WR-TIMEZONE:Australia/Sydney
BEGIN:VEVENT
DTSTART;TZID=Australia/Sydney:20171214T090000
DTEND;TZID=Australia/Sydney:20171214T150000
DTSTAMP:20171214T090000Z
UID:0390304b-85df-4780-8401-bc6aec0aef7d
LOCATION:
SUMMARY;LANGUAGE=en-us:Multicultural Day
SEQUENCE:0
DESCRIPTION:Students will be celebrating different cultures on 14th December. Students will participate in a variety of cultural activities and try some fodds from different cultures. Students are asked to dress up in attire form another country for the day if possible.
END:VEVENT
TRANSP:TRANSPARENT
END:VCALENDAR
