BEGIN:VCALENDAR
VERSION:2.0
PRODID:-//Department Of Education//1feb457d-4e4f-4620-a1bc-e0d66bbb7d4c
BEGIN:VTIMEZONE
TZID:Australia/Sydney
TZURL:http://tzurl.org/zoneinfo-outlook/Australia/Sydney
X-LIC-LOCATION:Australia/Sydney
BEGIN:STANDARD
TZOFFSETFROM:+1100
TZOFFSETTO:+1000
TZNAME:AEST
DTSTART:19700405T030000
RRULE:FREQ=YEARLY;BYMONTH=4;BYDAY=1SU
END:STANDARD
BEGIN:DAYLIGHT
TZOFFSETFROM:+1000
TZOFFSETTO:+1100
TZNAME:AEDT
DTSTART:19701004T020000
RRULE:FREQ=YEARLY;BYMONTH=10;BYDAY=1SU
END:DAYLIGHT
END:VTIMEZONE
CALSCALE:GREGORIAN
X-WR-TIMEZONE:Australia/Sydney
BEGIN:VEVENT
DTSTART;VALUE=DATE:20171205
DTEND;VALUE=DATE:20171206
DTSTAMP:20171205T000000Z
UID:2ae9f43f-ac0d-4196-b885-ec2e0049f205
LOCATION:
SUMMARY;LANGUAGE=en-us:Year 6 KHS Transition
SEQUENCE:0
DESCRIPTION:Year 6 students attending Kempsey High School next year for the start of year 7 - will be attending a transition day at KHS on 5th December. Students will meet Mr Dickinson at KHS flag poles from 8.30am.
END:VEVENT
TRANSP:TRANSPARENT
END:VCALENDAR
