BEGIN:VCALENDAR
VERSION:2.0
PRODID:-//Department Of Education//2eab6f04-b73d-4ada-bb57-50997e8111a8
BEGIN:VTIMEZONE
TZID:Australia/Sydney
TZURL:http://tzurl.org/zoneinfo-outlook/Australia/Sydney
X-LIC-LOCATION:Australia/Sydney
BEGIN:STANDARD
TZOFFSETFROM:+1100
TZOFFSETTO:+1000
TZNAME:AEST
DTSTART:19700405T030000
RRULE:FREQ=YEARLY;BYMONTH=4;BYDAY=1SU
END:STANDARD
BEGIN:DAYLIGHT
TZOFFSETFROM:+1000
TZOFFSETTO:+1100
TZNAME:AEDT
DTSTART:19701004T020000
RRULE:FREQ=YEARLY;BYMONTH=10;BYDAY=1SU
END:DAYLIGHT
END:VTIMEZONE
CALSCALE:GREGORIAN
X-WR-TIMEZONE:Australia/Sydney
BEGIN:VEVENT
DTSTART;TZID=Australia/Sydney:20170206T100000
DTEND;TZID=Australia/Sydney:20170206T123000
DTSTAMP:20170206T100000Z
UID:58fe8bbb-f6d2-48e3-adb9-cb18074bd395
LOCATION:
SUMMARY;LANGUAGE=en-us:PSSA Cricket Trials
SEQUENCE:0
DESCRIPTION:On Monday the 6th February the PSSA cricket trials will be held at Verge Street Cricket Nets in Kempsey. We have selected four students to attend the day - best of luck boys!. The trials begin at 10am and finish by 12.30pm. Students are to bring hat, water, appropriate shoes and recess and lunch. Travel will be provided by school for this event.
END:VEVENT
TRANSP:TRANSPARENT
END:VCALENDAR
