BEGIN:VCALENDAR
VERSION:2.0
PRODID:-//Department Of Education//81a7aa20-8445-4cbd-b1a7-6b5c118a15e7
BEGIN:VTIMEZONE
TZID:Australia/Sydney
TZURL:http://tzurl.org/zoneinfo-outlook/Australia/Sydney
X-LIC-LOCATION:Australia/Sydney
BEGIN:STANDARD
TZOFFSETFROM:+1100
TZOFFSETTO:+1000
TZNAME:AEST
DTSTART:19700405T030000
RRULE:FREQ=YEARLY;BYMONTH=4;BYDAY=1SU
END:STANDARD
BEGIN:DAYLIGHT
TZOFFSETFROM:+1000
TZOFFSETTO:+1100
TZNAME:AEDT
DTSTART:19701004T020000
RRULE:FREQ=YEARLY;BYMONTH=10;BYDAY=1SU
END:DAYLIGHT
END:VTIMEZONE
CALSCALE:GREGORIAN
X-WR-TIMEZONE:Australia/Sydney
BEGIN:VEVENT
DTSTART;TZID=Australia/Sydney:20170210T090000
DTEND;TZID=Australia/Sydney:20170210T150000
DTSTAMP:20170210T090000Z
UID:60fc6bd0-350f-463b-a5dd-51d5cb1a96f8
LOCATION:
SUMMARY;LANGUAGE=en-us:Small Schools Swimming Carnival
SEQUENCE:0
DESCRIPTION:Friday the 10th February is the small schools swimming carnival being held at Kempsey pools. Only selected students (aged 8 and older) will attend this carnival. Selected students have been issued with a permission note already which needs to be returned to school ASAP. Students need swimmers, change of clothes, bag for wet clothes, towel, (sunscreen provided by school), recess and lunch. Pool entry is $4 per child and $1 for spectators. Students are to meet with Mr Dickinson at the pool.
END:VEVENT
TRANSP:TRANSPARENT
END:VCALENDAR
