BEGIN:VCALENDAR
VERSION:2.0
PRODID:-//Department Of Education//61040aa2-692d-4798-8635-ba039ae6799d
BEGIN:VTIMEZONE
TZID:Australia/Sydney
TZURL:http://tzurl.org/zoneinfo-outlook/Australia/Sydney
X-LIC-LOCATION:Australia/Sydney
BEGIN:STANDARD
TZOFFSETFROM:+1100
TZOFFSETTO:+1000
TZNAME:AEST
DTSTART:19700405T030000
RRULE:FREQ=YEARLY;BYMONTH=4;BYDAY=1SU
END:STANDARD
BEGIN:DAYLIGHT
TZOFFSETFROM:+1000
TZOFFSETTO:+1100
TZNAME:AEDT
DTSTART:19701004T020000
RRULE:FREQ=YEARLY;BYMONTH=10;BYDAY=1SU
END:DAYLIGHT
END:VTIMEZONE
CALSCALE:GREGORIAN
X-WR-TIMEZONE:Australia/Sydney
BEGIN:VEVENT
DTSTART;VALUE=DATE:20170907
DTEND;VALUE=DATE:20170908
DTSTAMP:20170907T000000Z
UID:e9275b7c-9cc5-4293-a685-85ebcd10c32c
LOCATION:
SUMMARY;LANGUAGE=en-us:Year 6 Transition to KHS
SEQUENCE:0
DESCRIPTION:On Thursday 7th September all year 6 students will attend a transition day at Kempsey High School. Notes have been handed to students and transport will provided by parents or high school buses. I will meet students at Kempsey High School flag pole at 8.30am as some buses arrive then.
END:VEVENT
TRANSP:TRANSPARENT
END:VCALENDAR
