BEGIN:VCALENDAR
VERSION:2.0
PRODID:-//Department Of Education//6510e993-3988-485b-82e6-2aa17234ed1c
BEGIN:VTIMEZONE
TZID:Australia/Sydney
TZURL:http://tzurl.org/zoneinfo-outlook/Australia/Sydney
X-LIC-LOCATION:Australia/Sydney
BEGIN:STANDARD
TZOFFSETFROM:+1100
TZOFFSETTO:+1000
TZNAME:AEST
DTSTART:19700405T030000
RRULE:FREQ=YEARLY;BYMONTH=4;BYDAY=1SU
END:STANDARD
BEGIN:DAYLIGHT
TZOFFSETFROM:+1000
TZOFFSETTO:+1100
TZNAME:AEDT
DTSTART:19701004T020000
RRULE:FREQ=YEARLY;BYMONTH=10;BYDAY=1SU
END:DAYLIGHT
END:VTIMEZONE
CALSCALE:GREGORIAN
X-WR-TIMEZONE:Australia/Sydney
BEGIN:VEVENT
DTSTART;TZID=Australia/Sydney:20180413T100000
DTEND;TZID=Australia/Sydney:20180413T130000
DTSTAMP:20180413T100000Z
UID:3aa8bf7f-81bc-45fb-bc31-2746e38decdf
LOCATION:
SUMMARY;LANGUAGE=en-us:Colour Fun Run
SEQUENCE:0
DESCRIPTION:Our annual Fun Run fundraiser is adding a little coulour this year!
END:VEVENT
TRANSP:TRANSPARENT
END:VCALENDAR
