BEGIN:VCALENDAR
VERSION:2.0
PRODID:-//Department Of Education//20430699-18e8-49fb-9f69-1486f1bda2ba
BEGIN:VTIMEZONE
TZID:Australia/Sydney
TZURL:http://tzurl.org/zoneinfo-outlook/Australia/Sydney
X-LIC-LOCATION:Australia/Sydney
BEGIN:STANDARD
TZOFFSETFROM:+1100
TZOFFSETTO:+1000
TZNAME:AEST
DTSTART:19700405T030000
RRULE:FREQ=YEARLY;BYMONTH=4;BYDAY=1SU
END:STANDARD
BEGIN:DAYLIGHT
TZOFFSETFROM:+1000
TZOFFSETTO:+1100
TZNAME:AEDT
DTSTART:19701004T020000
RRULE:FREQ=YEARLY;BYMONTH=10;BYDAY=1SU
END:DAYLIGHT
END:VTIMEZONE
CALSCALE:GREGORIAN
X-WR-TIMEZONE:Australia/Sydney
BEGIN:VEVENT
DTSTART;VALUE=DATE:20180605
DTEND;VALUE=DATE:20180606
DTSTAMP:20180605T000000Z
UID:fd41b302-4eb5-4c18-9c56-49f492c2182f
LOCATION:School Hall, Melville High School, 44-50 Nicholson St, South Kempsey NSW 2440
SUMMARY;LANGUAGE=en-us:Macleay robotics challenge
SEQUENCE:0
DESCRIPTION:5-6 will be attending a robotics challenge at Melville High in the hall on Tuesday 5th June. Students are to find their own transport and meet Mr deRoos at the hall. This event will have activities for all ability levels and students will be able to experiement with a range of technologies. Students to bring: *Hat *Recess and lunch *Water bottle
END:VEVENT
TRANSP:TRANSPARENT
END:VCALENDAR
