BEGIN:VCALENDAR
VERSION:2.0
PRODID:-//Department Of Education//5625b097-aec7-4d18-8c25-119b8b6c52d8
BEGIN:VTIMEZONE
TZID:Australia/Sydney
TZURL:http://tzurl.org/zoneinfo-outlook/Australia/Sydney
X-LIC-LOCATION:Australia/Sydney
BEGIN:STANDARD
TZOFFSETFROM:+1100
TZOFFSETTO:+1000
TZNAME:AEST
DTSTART:19700405T030000
RRULE:FREQ=YEARLY;BYMONTH=4;BYDAY=1SU
END:STANDARD
BEGIN:DAYLIGHT
TZOFFSETFROM:+1000
TZOFFSETTO:+1100
TZNAME:AEDT
DTSTART:19701004T020000
RRULE:FREQ=YEARLY;BYMONTH=10;BYDAY=1SU
END:DAYLIGHT
END:VTIMEZONE
CALSCALE:GREGORIAN
X-WR-TIMEZONE:Australia/Sydney
BEGIN:VEVENT
DTSTART;TZID=Australia/Sydney:20190621T120042
DTEND;TZID=Australia/Sydney:20190621T130050
DTSTAMP:20190621T000000Z
UID:21d04598-5b8a-4de5-bc9e-43a49691d2d4
LOCATION:Willawarrin Public School
SUMMARY;LANGUAGE=en-us:Colour Fun Run
SEQUENCE:0
DESCRIPTION:Our school colour fun run is on Friday 21st June 2019. It will be held on our school oval from 12pm to 1pm followed by a hamburger lunch prepared by students. This event is to raise money for our school excursion fund so please encourage your children to collect sponsorships. Students should wear an old white shirt for maximum effect with the colour powder. Sunglasses will be provided. Families are welcome to watch and join us for lunch.
END:VEVENT
TRANSP:TRANSPARENT
END:VCALENDAR
