BEGIN:VCALENDAR
VERSION:2.0
PRODID:-//Department Of Education//cb3a0515-3274-4eae-aec7-a247372b61df
BEGIN:VTIMEZONE
TZID:Australia/Sydney
TZURL:http://tzurl.org/zoneinfo-outlook/Australia/Sydney
X-LIC-LOCATION:Australia/Sydney
BEGIN:STANDARD
TZOFFSETFROM:+1100
TZOFFSETTO:+1000
TZNAME:AEST
DTSTART:19700405T030000
RRULE:FREQ=YEARLY;BYMONTH=4;BYDAY=1SU
END:STANDARD
BEGIN:DAYLIGHT
TZOFFSETFROM:+1000
TZOFFSETTO:+1100
TZNAME:AEDT
DTSTART:19701004T020000
RRULE:FREQ=YEARLY;BYMONTH=10;BYDAY=1SU
END:DAYLIGHT
END:VTIMEZONE
CALSCALE:GREGORIAN
X-WR-TIMEZONE:Australia/Sydney
BEGIN:VEVENT
DTSTART;VALUE=DATE:20190618
DTEND;VALUE=DATE:20190619
DTSTAMP:20190618T000000Z
UID:8f310bfd-f2a2-4067-a0f5-642a53b86cd7
LOCATION:Willawarrin Public School
SUMMARY;LANGUAGE=en-us:Pyjama Day
SEQUENCE:0
DESCRIPTION:Wear your pyjamas to school all day! Please make sure they are warm enough and appropriate for wearing to school. This is a great chance to wash uniforms ready for school photos the next day.
END:VEVENT
TRANSP:TRANSPARENT
END:VCALENDAR
