BEGIN:VCALENDAR
VERSION:2.0
PRODID:-//Department Of Education//b25b9b8a-8d12-4421-b58a-024f6f376b49
BEGIN:VTIMEZONE
TZID:Australia/Sydney
TZURL:http://tzurl.org/zoneinfo-outlook/Australia/Sydney
X-LIC-LOCATION:Australia/Sydney
BEGIN:STANDARD
TZOFFSETFROM:+1100
TZOFFSETTO:+1000
TZNAME:AEST
DTSTART:19700405T030000
RRULE:FREQ=YEARLY;BYMONTH=4;BYDAY=1SU
END:STANDARD
BEGIN:DAYLIGHT
TZOFFSETFROM:+1000
TZOFFSETTO:+1100
TZNAME:AEDT
DTSTART:19701004T020000
RRULE:FREQ=YEARLY;BYMONTH=10;BYDAY=1SU
END:DAYLIGHT
END:VTIMEZONE
CALSCALE:GREGORIAN
X-WR-TIMEZONE:Australia/Sydney
BEGIN:VEVENT
DTSTART;VALUE=DATE:20190619
DTEND;VALUE=DATE:20190620
DTSTAMP:20190619T000000Z
UID:9f505d01-4415-4516-ae22-ab0d8729a41a
LOCATION:Willawarrin Public School
SUMMARY;LANGUAGE=en-us:School Photos
SEQUENCE:0
DESCRIPTION:School photos for all students will be held on Wednesday 19th June.  Please return all note envelopes and money before this date. Please come dressed in full school uniform.
END:VEVENT
TRANSP:TRANSPARENT
END:VCALENDAR
