BEGIN:VCALENDAR
VERSION:2.0
PRODID:-//Department Of Education//fe610296-f535-4f58-98d2-102a6b24f51a
BEGIN:VTIMEZONE
TZID:Australia/Sydney
TZURL:http://tzurl.org/zoneinfo-outlook/Australia/Sydney
X-LIC-LOCATION:Australia/Sydney
BEGIN:STANDARD
TZOFFSETFROM:+1100
TZOFFSETTO:+1000
TZNAME:AEST
DTSTART:19700405T030000
RRULE:FREQ=YEARLY;BYMONTH=4;BYDAY=1SU
END:STANDARD
BEGIN:DAYLIGHT
TZOFFSETFROM:+1000
TZOFFSETTO:+1100
TZNAME:AEDT
DTSTART:19701004T020000
RRULE:FREQ=YEARLY;BYMONTH=10;BYDAY=1SU
END:DAYLIGHT
END:VTIMEZONE
CALSCALE:GREGORIAN
X-WR-TIMEZONE:Australia/Sydney
BEGIN:VEVENT
DTSTART;TZID=Australia/Sydney:20190627T090006
DTEND;TZID=Australia/Sydney:20190627T150017
DTSTAMP:20190627T000000Z
UID:3b676c7f-f862-481e-be01-43ad6ba3f03f
LOCATION:Services Club Park (opposite Kempsey netball courts)
SUMMARY;LANGUAGE=en-us:Small Schools Athletics Carnival
SEQUENCE:0
DESCRIPTION:Students who qualified at our school athletics carnival will be invited to attend the Small Schools carnival at Services Park in Kempsey. Notes will be sent home with what to bring. Students will be able to purchase items from a canteen on the day.
END:VEVENT
TRANSP:TRANSPARENT
END:VCALENDAR
